BEGIN:VCALENDAR
VERSION:2.0
PRODID:-//More In My Basket - ECPv6.15.9//NONSGML v1.0//EN
CALSCALE:GREGORIAN
METHOD:PUBLISH
X-ORIGINAL-URL:https://morefood.org
X-WR-CALDESC:Events for More In My Basket
REFRESH-INTERVAL;VALUE=DURATION:PT1H
X-Robots-Tag:noindex
X-PUBLISHED-TTL:PT1H
BEGIN:VTIMEZONE
TZID:UTC
BEGIN:STANDARD
TZOFFSETFROM:+0000
TZOFFSETTO:+0000
TZNAME:UTC
DTSTART:20200101T000000
END:STANDARD
END:VTIMEZONE
BEGIN:VEVENT
DTSTART;TZID=UTC:20210831T090000
DTEND;TZID=UTC:20210831T120000
DTSTAMP:20260423T230806
CREATED:20210819T175640Z
LAST-MODIFIED:20210819T185319Z
UID:4877-1630400400-1630411200@morefood.org
SUMMARY:Aging With Gusto
DESCRIPTION:  \n  \n  \n  \n  \n  \n  \n  \n  \n                                                                            \nMore In My Basket  (MIMB)  will be in attendance at the Person & Granville County “Aging With Gusto” event. MIMB will hold a morning session “Household & Food Budget” from 9:50 a.m. – 10:35 a.m. We hope that everyone can join us to celebrate Person & Granville Counties as “Communities of Strength”. Together we can promote healthy aging\, increase community involvement for older adults\, and tackle important issues like the prevention of elder abuse.
URL:https://morefood.org/event/aging-with-gusto-2/
LOCATION:Person County Government\, 304 South Morgan Street\, Roxboro\, NC\, 27573\, United States
CATEGORIES:Granville,Older Adults,Person,Roxboro
ATTACH;FMTTYPE=image/png:https://morefood.org/wp-content/uploads/2021/08/Aging-With-Gusto-3.png
END:VEVENT
END:VCALENDAR