BEGIN:VCALENDAR
VERSION:2.0
PRODID:-//More In My Basket - ECPv6.15.9//NONSGML v1.0//EN
CALSCALE:GREGORIAN
METHOD:PUBLISH
X-ORIGINAL-URL:https://morefood.org
X-WR-CALDESC:Events for More In My Basket
REFRESH-INTERVAL;VALUE=DURATION:PT1H
X-Robots-Tag:noindex
X-PUBLISHED-TTL:PT1H
BEGIN:VTIMEZONE
TZID:UTC
BEGIN:STANDARD
TZOFFSETFROM:+0000
TZOFFSETTO:+0000
TZNAME:UTC
DTSTART:20210101T000000
END:STANDARD
END:VTIMEZONE
BEGIN:VEVENT
DTSTART;TZID=UTC:20220719T120000
DTEND;TZID=UTC:20220719T130000
DTSTAMP:20260423T091320
CREATED:20220613T195433Z
LAST-MODIFIED:20220613T195611Z
UID:5118-1658232000-1658235600@morefood.org
SUMMARY:Developing a Household Food Budget - Granville/Person County
DESCRIPTION:Join Person/Granville County Family & Consumer Sciences Agent Jennifer Brown as she presents More In My Basket’s Developing a Household Food Budget. \nParticipants will learn about the importance of developing a household budget\, and specifically a food budget. Participants will learn strategies for tracking expenses and developing a budget. Resources to maximize food budget will be discussed. Participants will develop a food spending strategy using the Thrifty Food Plan. \nThis will be a virtual event. Please contact Jennifer for more information. \n 
URL:https://morefood.org/event/5118/
CATEGORIES:Granville,Person
ATTACH;FMTTYPE=image/png:https://morefood.org/wp-content/uploads/2022/01/piggybank-e1655135344794.png
END:VEVENT
END:VCALENDAR